BEGIN:VCALENDAR
VERSION:2.0
CREATED:20260410T210546Z
PRODID:-//Capricor Therapeutics\, Inc./Equisolve Calendar v1.0//EN
METHOD:PUBLISH
BEGIN:VEVENT
UID:6f3c701e6b84f7ae5dbd9d3c4ce65381
DTSTAMP:20260421T082918Z
DTSTART:20260604T170000Z
DTEND:20260604T180000Z
SUMMARY:2026 Annual Meeting of Stockholders
DESCRIPTION:2026 Annual Meeting of Stockholders
Date: Jun 4\, 2026 10:00 am PDT
END:VEVENT
END:VCALENDAR
